Workbook
Name TRRE: #REF!
Name GEF: #REF!
Name INCR: #REF!
Name PRCM: #REF!
Name BFBD: #REF!
Name GEQ: #REF!
Name ICO: #REF!
Name PAC: #REF!
Name IADE: MCA!$B$2:$N$3
Name ISA: #REF!
Name TABT: #REF!
Name LCQ: #REF!
Name SiglaOBJ: #REF!
Name IAEP_CID: #REF!
Name TESR: #REF!
Name LHT: #REF!
Name TPF: #REF!
Name IDO: #REF!
Name INCR: #REF!
Name IPPA: #REF!
Name ISP: #REF!
Name IAEP_LIH: #REF!
Name INF: #REF!
Name ETNC: #REF!
Name IDEV: #REF!
Name PEQH: #REF!
Name TCP: #REF!
Name SUP: MNC!$B$1
Name SUP: MCA!$B$1
Name LSO: #REF!
Name SiglaIndic: 'Valid Dados'!$H$2:$I$44
Name TSAA: #REF!
Name TCH: #REF!
Name RMI: #REF!
Name ISD: #REF!
Name IDEV: #REF!
Name TQPP: #REF!
Name IADE: NPS!$B$2:$N$3
Name GEP: #REF!
Name CID: #REF!
Name IADE: MNC!$B$2:$N$3
Name SiglaProce: #REF!
Name PCOT: #REF!
Name IAEP_SOR: #REF!
Name IDR: #REF!
Name TAMB: #REF!
Name PFC: #REF!
Name LIH: #REF!
Name TBDA: #REF!
Name SUP: NPS!$B$1
Name TRAE: #REF!
Name IEX: #REF!
Name IAEP_LHM: #REF!
Name PRC: #REF!
Name INCR: #REF!
Name BIO: #REF!
Name IAEP_LHT: #REF!
Name POEQ: #REF!
Name IRET_LIH: #REF!
Name IDEV: #REF!

Sheet FQI_Ficha Qualificação Indicado
A2: N | B2: Nome do Indicador | C2: Objetivo Estratégico Relacionado | D2: Processo Relacionado | E2: Fórmula de Cálculo do Indicador | F2: Unidade de Medida | G2: Periodicidade (Frequência de Medição) | H2: Polaridade | I2: BSC
A3: 1 | B3: Net Promoter Score (NPS) | C3: Aumentar a Satisfação dos Clientes (OB2) | D3: Gestão Comercial (GC) | E3: NPS = Promotores – Detratores | F3: % | G3: Mensal | H3: Maior melhor | I3: Mercado e Cliente
A4: 2 | B4: Aumento de mercado (MCA) | C4: Aumentar a Participação no Mercado da Conceitto (OB3) | D4: Gestão Comercial (GC) | E4: ((Quantidade embarques no período - Quantidade embarques no período anterior) / Quantidade embarques no período anterior) *100 | F4: % | G4: Mensal | H4: Maior melhor | I4: Mercado e Cliente
A5: 3 | B5: Aumento de mercado com novos clientes (MNC) | C5: Aumentar a Participação no Mercado da Conceitto (OB3) | D5: Gestão Comercial (GC) | E5: ((Quantidade clientes no período - Quantidade clientes no período anterior) / Quantidade clientes no período anterior) *100 | F5: % | G5: Mensal | H5: Maior melhor | I5: Mercado e Cliente
A6: 4 | I6: Mercado e Cliente
A7: 5
A8: 6
A9: 7
A10: 8
A11: 9
A12: 10
A13: 11
A14: 12
A15: 13
A16: 14
A17: 15
A18: 16
... A27: 25

Sheet NPS
B2: ACOMPANHAMENTO DE INDICADORES
B5: Indicador | J5: Processo
B6: ='FQI_Ficha Qualificação Indicado'!B3 -> Net Promoter Score (NPS) | J6: ='FQI_Ficha Qualificação Indicado'!D3 -> Gestão Comercial (GC)
B8: Periodicidade | F8: Polaridade | J8: Responsável
B9: ='FQI_Ficha Qualificação Indicado'!G3 -> Mensal | F9: ='FQI_Ficha Qualificação Indicado'!H3 -> Maior melhor | J9: Bosco
B11: Objetivo estratégico | J11: Perspectiva BSC
B12: ='FQI_Ficha Qualificação Indicado'!C3 -> Aumentar a Satisfação dos Clientes (OB2) | J12: ='FQI_Ficha Qualificação Indicado'!I3 -> Mercado e Cliente
B15: Resultados e Meta
B17: Período | C17: Real | D17: =IF(D20="","Meta","Meta "&TEXT(D20,"0%")) -> Meta 95%
B18: 2021 | C18: --- | D18: ---
B19: 2022
B20: 2023 | C20: =SUBTOTAL(101,OFFSET(C21,0,0,COUNTA(C21:C32),1)) -> 0.1 | D20: 0.95
B21: Jan | C21: ='Compilação MCA'!D4 -> 0.1 | D21: 0.95
B22: Fev | C22: ='Compilação MCA'!D5 -> 0.1 | D22: 0.95
B23: Mar | C23: ='Compilação MCA'!D6 -> 0.1 | D23: 0.95
B24: Abr | C24: ='Compilação MCA'!D7 -> 0.1 | D24: 0.95
B25: Mai | C25: ='Compilação MCA'!D8 -> 0.1 | D25: 0.95
B26: Jun | C26: ='Compilação MCA'!D9 -> 0.1 | D26: 0.95
B27: Jul | C27: ='Compilação MCA'!D10 -> 0.1 | D27: 0.95
B28: Ago | C28: ='Compilação MCA'!D11 -> 0.1 | D28: 0.95
B29: Set | C29: ='Compilação MCA'!D12 -> 0.1 | D29: 0.95
B30: Out | C30: ='Compilação MCA'!D13 -> 0.1 | D30: 0.95
B31: Nov | C31: 0.1 | D31: 0.95
B32: Dez | C32: 0.1 | D32: 0.95
B36: ANÁLISE E CONDUTA
B38: Jan | C38: Situação atual do indicador: Fatores que compõem o resultado do Indicador: Fatores levaram a esse resultado: Condutas para melhorar o indicador:
B39: Fev | C39: Situação atual do indicador: Fatores que compõem o resultado do Indicador: Fatores levaram a esse resultado: Condutas para melhorar o indicador:
B40: Mar | C40: Situação atual do indicador: Fatores que compõem o resultado do Indicador: Fatores levaram a esse resultado: Condutas para melhorar o indicador:
B41: Abr | C41: Situação atual do indicador: Fatores que compõem o resultado do Indicador: Fatores levaram a esse resultado: Condutas para melhorar o indicador:
B42: Mai | C42: Situação atual do indicador: Fatores que compõem o resultado do Indicador: Fatores levaram a esse resultado: Condutas para melhorar o indicador:
B43: Jun | C43: Situação atual do indicador: Fatores que compõem o resultado do Indicador: Fatores levaram a esse resultado: Condutas para melhorar o indicador:
B44: Jul | C44: Situação atual do indicador: Fatores que compõem o resultado do Indicador: Fatores levaram a esse resultado: Condutas para melhorar o indicador:
B45: Ago | C45: Situação atual do indicador: Fatores que compõem o resultado do Indicador: Fatores levaram a esse resultado: Condutas para melhorar o indicador:
B46: Set
B47: Out
B48: Nov
B49: Dez

Sheet MCA
B2: ACOMPANHAMENTO DE INDICADORES
B5: Indicador | J5: Processo
B6: ='FQI_Ficha Qualificação Indicado'!B4 -> Aumento de mercado (MCA) | J6: ='FQI_Ficha Qualificação Indicado'!D4 -> Gestão Comercial (GC)
B8: Periodicidade | F8: Polaridade | J8: Responsável
B9: ='FQI_Ficha Qualificação Indicado'!G4 -> Mensal | F9: ='FQI_Ficha Qualificação Indicado'!H4 -> Maior melhor | J9: Bosco
B11: Objetivo estratégico | J11: Perspectiva BSC
B12: ='FQI_Ficha Qualificação Indicado'!C4 -> Aumentar a Participação no Mercado da Conceitto (OB3) | J12: ='FQI_Ficha Qualificação Indicado'!I4 -> Mercado e Cliente
B15: Resultados e Meta
B17: Período | C17: Real | D17: =IF(D20="","Meta","Meta "&TEXT(D20,"0%")) -> Meta 55%
B18: 2021 | C18: --- | D18: ---
B19: 2022
B20: 2023 | C20: =SUBTOTAL(101,OFFSET(C21,0,0,COUNTA(C21:C32),1)) -> 0.05 | D20: 0.55
B21: Jan | C21: 0.05
B22: Fev | C22: 0.05
B23: Mar | C23: 0.05
B24: Abr | C24: 0.05
B25: Mai | C25: 0.05
B26: Jun | C26: 0.05
B27: Jul | C27: 0.05
B28: Ago | C28: 0.05
B29: Set | C29: 0.05
B30: Out | C30: 0.05
B31: Nov | C31: 0.05
B32: Dez | C32: 0.05
B36: ANÁLISE E CONDUTA
B38: Jan | C38: Situação atual do indicador: Fatores que compõem o resultado do Indicador: Fatores levaram a esse resultado: Condutas para melhorar o indicador:
B39: Fev | C39: Situação atual do indicador: Fatores que compõem o resultado do Indicador: Fatores levaram a esse resultado: Condutas para melhorar o indicador:
B40: Mar | C40: Situação atual do indicador: Fatores que compõem o resultado do Indicador: Fatores levaram a esse resultado: Condutas para melhorar o indicador:
B41: Abr | C41: Situação atual do indicador: Fatores que compõem o resultado do Indicador: Fatores levaram a esse resultado: Condutas para melhorar o indicador:
B42: Mai | C42: Situação atual do indicador: Fatores que compõem o resultado do Indicador: Fatores levaram a esse resultado: Condutas para melhorar o indicador:
B43: Jun | C43: Situação atual do indicador: Fatores que compõem o resultado do Indicador: Fatores levaram a esse resultado: Condutas para melhorar o indicador:
B44: Jul | C44: Situação atual do indicador: Fatores que compõem o resultado do Indicador: Fatores levaram a esse resultado: Condutas para melhorar o indicador:
B45: Ago | C45: Situação atual do indicador: Fatores que compõem o resultado do Indicador: Fatores levaram a esse resultado: Condutas para melhorar o indicador:
B46: Set
B47: Out
B48: Nov
B49: Dez

Sheet MNC
B2: ACOMPANHAMENTO DE INDICADORES
B5: Indicador | J5: Processo
B6: ='FQI_Ficha Qualificação Indicado'!B5 -> Aumento de mercado com novos clientes (MNC) | J6: ='FQI_Ficha Qualificação Indicado'!D5 -> Gestão Comercial (GC)
B8: Periodicidade | F8: Polaridade | J8: Responsável
B9: ='FQI_Ficha Qualificação Indicado'!G5 -> Mensal | F9: ='FQI_Ficha Qualificação Indicado'!H5 -> Maior melhor | J9: Bosco
B11: Objetivo estratégico | J11: Perspectiva BSC
B12: ='FQI_Ficha Qualificação Indicado'!C5 -> Aumentar a Participação no Mercado da Conceitto (OB3) | J12: ='FQI_Ficha Qualificação Indicado'!I5 -> Mercado e Cliente
B15: Resultados e Meta
B17: Período | C17: Real | D17: =IF(D20="","Meta","Meta "&TEXT(D20,"0%")) -> Meta 44%
B18: 2021 | C18: 20 | D18: 20
B19: 2022 | C19: 1 | D19: 1
B20: 2023 | C20: =SUBTOTAL(101,OFFSET(C21,0,0,COUNTA(C21:C32),1)) -> 0.04 | D20: 0.44
B21: Jan | C21: 0.04
B22: Fev | C22: 0.04
B23: Mar | C23: 0.04
B24: Abr | C24: 0.04
B25: Mai | C25: 0.04
B26: Jun | C26: 0.04
B27: Jul | C27: 0.04
B28: Ago | C28: 0.04
B29: Set | C29: 0.04
B30: Out | C30: 0.04
B31: Nov | C31: 0.04
B32: Dez | C32: 0.04
B36: ANÁLISE E CONDUTA
B38: Jan | C38: Situação atual do indicador: Fatores que compõem o resultado do Indicador: Fatores levaram a esse resultado: Condutas para melhorar o indicador:
B39: Fev | C39: Situação atual do indicador: Fatores que compõem o resultado do Indicador: Fatores levaram a esse resultado: Condutas para melhorar o indicador:
B40: Mar | C40: Situação atual do indicador: Fatores que compõem o resultado do Indicador: Fatores levaram a esse resultado: Condutas para melhorar o indicador:
B41: Abr | C41: Situação atual do indicador: Fatores que compõem o resultado do Indicador: Fatores levaram a esse resultado: Condutas para melhorar o indicador:
B42: Mai | C42: Situação atual do indicador: Fatores que compõem o resultado do Indicador: Fatores levaram a esse resultado: Condutas para melhorar o indicador:
B43: Jun | C43: Situação atual do indicador: Fatores que compõem o resultado do Indicador: Fatores levaram a esse resultado: Condutas para melhorar o indicador:
B44: Jul | C44: Situação atual do indicador: Fatores que compõem o resultado do Indicador: Fatores levaram a esse resultado: Condutas para melhorar o indicador:
B45: Ago | C45: Situação atual do indicador: Fatores que compõem o resultado do Indicador: Fatores levaram a esse resultado: Condutas para melhorar o indicador:
B46: Set
B47: Out
B48: Nov
B49: Dez

Sheet Compilação MCA
A1: numero mensal Embarque
B3: 2022 | C3: 2023
A4: jan | B4: 500 | C4: 550 | D4: =(C4-B4)/B4 -> 0.1
A5: fev | B5: 100 | C5: 110 | D5: =(C5-B5)/B5 -> 0.1
A6: mar | B6: 100 | C6: 110 | D6: =(C6-B6)/B6 -> 0.1
A7: abr | B7: 100 | C7: 110 | D7: =(C7-B7)/B7 -> 0.1
A8: mai | B8: 100 | C8: 110 | D8: =(C8-B8)/B8 -> 0.1
A9: jun | B9: 100 | C9: 110 | D9: =(C9-B9)/B9 -> 0.1
A10: jul | B10: 100 | C10: 110 | D10: =(C10-B10)/B10 -> 0.1
A11: ago | B11: 100 | C11: 110 | D11: =(C11-B11)/B11 -> 0.1
A12: set | B12: 100 | C12: 110 | D12: =(C12-B12)/B12 -> 0.1
A13: out | B13: 100 | C13: 110 | D13: =(C13-B13)/B13 -> 0.1
A14: nov | B14: 100 | C14: 110 | D14: =(C14-B14)/B14 -> 0.1
A15: dez | B15: 100 | C15: 110 | D15: =(C15-B15)/B15 -> 0.1
B16: =SUM(B4:B15) -> 1600 | C16: =SUM(C4:C15) -> 1760 | D16: =(C16-B16)/B16 -> 0.1

Sheet Compilação MNC
A1: Aumento de mercado (MCA)
B3: 2022 | C3: 2023
A4: jan | B4: 3 | C4: 5 | D4: =(C4-B4)/B4 -> 0.66666667
A5: fev | B5: 6 | C5: 12 | D5: 1
A6: mar | B6: 10 | C6: 20 | D6: =(C6-B6)/B6 -> 1
A7: abr | B7: 5 | C7: 10 | D7: =(C7-B7)/B7 -> 1
A8: mai | B8: 5 | C8: 10 | D8: =(#REF!-B8)/B8 -> #REF!
A9: jun | B9: 5 | C9: 10 | D9: =(C8-B9)/B9 -> 1
A10: jul | B10: 5 | C10: 10 | D10: =(C10-B10)/B10 -> 1
A11: ago | B11: 5 | C11: 10 | D11: =(C11-B11)/B11 -> 1
A12: set | B12: 5 | C12: 20 | D12: =(C12-B12)/B12 -> 3
A13: out | B13: 5 | C13: 20 | D13: =(C13-B13)/B13 -> 3
A14: nov | B14: 5 | C14: 20 | D14: =(C14-B14)/B14 -> 3
A15: dez | B15: 5 | C15: 20 | D15: =(C15-B15)/B15 -> 3
B16: =SUM(B4:B15) -> 64 | C16: =SUM(C4:C15) -> 167 | D16: =SUM(D4:D15) -> #REF!

Sheet Valid Dados
A1: Processo | B1: Periodicidade | C1: Polaridade | D1: Objetivos | F1: BSC | H1: SIGLA | I1: Nome do Indicador
A2: Gestão Operacional (GO) | B2: Diário | C2: Maior melhor | D2: Melhorar a sustentabilidade organizacional (OB1) | F2: Financeiro | H2: FAT | I2: Faturamento (FAT)
A3: Gestão Comercial (GC) | B3: Semanal | C3: Menor melhor | D3: Aumentar a Satisfação dos Clientes (OB2) | F3: Mercado e Cliente | H3: MBR | I3: Margem Bruta (MBR)
A4: Gestão Administrativa Financeira (GF) | B4: Quinzenal | D4: Aumentar a Participação no Mercado da Conceitto (OB3) | F4: Processos Internos | H4: ISF | I4: Índice de Segurança Financeira (ISF)
A5: Gestão de QSMS (GQ) | B5: Mensal | D5: Melhorar o Desempenho Operacional (OB4) | F5: Aprendizado e Crescimento | H5: LUC | I5: Lucratividade (LUC)
B6: Bimestral | D6: Melhorar o Desempenho Profissional (OB5) | H6: INP | I6: Índice de inadimplência (INP)
B7: Trimestral | D7: Manter a Integridade do Sistema (OB6) | H7: IDF | I7: Indice de Desempenho Funcional (IDF)
B8: Quadrimestral | H8: ABS | I8: Absenteísmo (ABS)
B9: Semestral | H9: CLI | I9: Clima Organizacional (CLI)
B10: Anual | H10: TUR | I10: Turnover (TUR)
H11: NPS | I11: Net Promoter Score (NPS)
H12: MCA | I12: Aumento de mercado (MCA)
H13: MNC | I13: Aumento de mercado com novos clientes (MNC)
H14: IDM | I14: Índice de desempenho dos motoristas (IDM)
H15: INS | I15: Índice de sinistros (INS)
H16: OTD | I16: Tempo de Entrega (OTD)
H17: TSD | I17: Tempo de solução dos desvios do processo de QSMS (TSD)
H18: GID | I18: Índice de Gestão dos Indicadores de Desempenho (GID)
