Workbook

Sheet Respostas ao formulário 1
A1: Carimbo de data/hora | B1: Nome (Opcional) | C1: Telefone (Opcional) | D1: Qualidade dos serviços | E1: Satisfação Geral | F1: Deixe aqui sua sugestão de melhoria
A2: 45201.444 | D2: 9 | E2: 10
A3: 45201.444 | D3: 8 | E3: 9
A4: 45209.689 | B4: Romeu | D4: 10 | E4: 9
A5: 45209.69 | B5: Bosco | C5: 81 995411097 | D5: 8 | E5: 10 | F5: Melhorar a comunicaçao !!!!

Sheet NPS
A4: VALORES | B4: Qualidade | C4: Satisfação
A5: 10 | B5: =COUNTIF('Respostas ao formulário 1'!D1:D500,A5) -> 1 | C5: =COUNTIF('Respostas ao formulário 1'!E1:E82,A5) -> 2
A6: 9 | B6: =COUNTIF('Respostas ao formulário 1'!D1:D500,A6) -> 1 | C6: =COUNTIF('Respostas ao formulário 1'!E1:E82,A6) -> 2
A7: 8 | B7: =COUNTIF('Respostas ao formulário 1'!D1:D500,A7) -> 2 | C7: =COUNTIF('Respostas ao formulário 1'!E1:E82,A7) -> 0 | E7: Qualidade | G7: NPS
A8: 7 | B8: =COUNTIF('Respostas ao formulário 1'!D1:D500,A8) -> 0 | C8: =COUNTIF('Respostas ao formulário 1'!E1:E82,A8) -> 0 | E8: PROMOTORES | F8: DETRATORES | G8: =E9-F9 -> 0.5
A9: 6 | B9: =COUNTIF('Respostas ao formulário 1'!D1:D500,A9) -> 0 | C9: =COUNTIF('Respostas ao formulário 1'!E1:E82,A9) -> 0 | E9: =(B5+B6)/B16 -> 0.5 | F9: =SUM(B9:B15)/B16 -> 0
A10: 5 | B10: =COUNTIF('Respostas ao formulário 1'!D1:D500,A10) -> 0 | C10: =COUNTIF('Respostas ao formulário 1'!E1:E82,A10) -> 0
A11: 4 | B11: =COUNTIF('Respostas ao formulário 1'!D1:D500,A11) -> 0 | C11: =COUNTIF('Respostas ao formulário 1'!D1:D88,A11) -> 0 | E11: Satisfação | G11: NPS
A12: 3 | B12: =COUNTIF('Respostas ao formulário 1'!D1:D500,A12) -> 0 | C12: =COUNTIF('Respostas ao formulário 1'!E1:E82,A12) -> 0 | E12: PROMOTORES | F12: DETRATORES | G12: =E13-F13 -> 1
A13: 2 | B13: =COUNTIF('Respostas ao formulário 1'!D1:D500,A13) -> 0 | C13: =COUNTIF('Respostas ao formulário 1'!E1:E82,A13) -> 0 | E13: =(C5+C6)/C16 -> 1 | F13: =SUM(C9:C15)/C16 -> 0
A14: 1 | B14: =COUNTIF('Respostas ao formulário 1'!D1:D500,A14) -> 0 | C14: =COUNTIF('Respostas ao formulário 1'!E1:E82,A14) -> 0
A15: 0 | B15: =COUNTIF('Respostas ao formulário 1'!D1:D500,A15) -> 0 | C15: =COUNTIF('Respostas ao formulário 1'!E1:E82,A15) -> 0 | F15: NPS GERAL | G15: =(G8+G12)/2 -> 0.75
B16: =SUM(B5:B15) -> 4 | C16: =SUM(C5:C15) -> 4
B17: QUANTIDADE | C17: QUANTIDADE
